BEGIN:VCALENDAR
VERSION:2.0
PRODID:-//ArtePoly - ECPv6.15.20//NONSGML v1.0//EN
CALSCALE:GREGORIAN
METHOD:PUBLISH
X-WR-CALNAME:ArtePoly
X-ORIGINAL-URL:https://artepoly.agepoly.ch
X-WR-CALDESC:Évènements pour ArtePoly
REFRESH-INTERVAL;VALUE=DURATION:PT1H
X-Robots-Tag:noindex
X-PUBLISHED-TTL:PT1H
BEGIN:VTIMEZONE
TZID:Europe/Paris
BEGIN:DAYLIGHT
TZOFFSETFROM:+0100
TZOFFSETTO:+0200
TZNAME:CEST
DTSTART:20200329T010000
END:DAYLIGHT
BEGIN:STANDARD
TZOFFSETFROM:+0200
TZOFFSETTO:+0100
TZNAME:CET
DTSTART:20201025T010000
END:STANDARD
BEGIN:DAYLIGHT
TZOFFSETFROM:+0100
TZOFFSETTO:+0200
TZNAME:CEST
DTSTART:20210328T010000
END:DAYLIGHT
BEGIN:STANDARD
TZOFFSETFROM:+0200
TZOFFSETTO:+0100
TZNAME:CET
DTSTART:20211031T010000
END:STANDARD
BEGIN:DAYLIGHT
TZOFFSETFROM:+0100
TZOFFSETTO:+0200
TZNAME:CEST
DTSTART:20220327T010000
END:DAYLIGHT
BEGIN:STANDARD
TZOFFSETFROM:+0200
TZOFFSETTO:+0100
TZNAME:CET
DTSTART:20221030T010000
END:STANDARD
END:VTIMEZONE
BEGIN:VEVENT
DTSTART;TZID=Europe/Paris:20210409T190000
DTEND;TZID=Europe/Paris:20210411T193000
DTSTAMP:20260423T114928
CREATED:20210322T161059Z
LAST-MODIFIED:20210322T161059Z
UID:499-1617994800-1618169400@artepoly.agepoly.ch
SUMMARY:Too Short Contest (2SC) 2021
DESCRIPTION:Concours de réalisation de cours métrage se déroulant du vendredi 9 avril à 19h jusqu’au dimanche 11 avril à 19h30. \nInscriptions bientôt ouvertes !
URL:https://artepoly.agepoly.ch/event_old/too-short-contest-2sc-2021/
CATEGORIES:Autre
END:VEVENT
END:VCALENDAR